BEGIN:VCALENDAR
VERSION:2.0
PRODID:-//hacksw/handcal//NONSGML v1.0//EN
BEGIN:VEVENT
SUMMARY:Rando Demi-journee, rendez vous a 13h30 parking Rene Hologne
UID:5f36276e-cbf1-4507-80a7-3a36b904214c
DTSTART:20260512T220000Z
DTEND:20260513T220000Z
LOCATION:Localisation   
CATEGORIES:Sportif
STATUS:
URL;VALUE=URI:https://randovesoul70.sportsregions.fr/evenements/2026/05/13/rando-demi-journee-rendez-vous-a-13h30-parking-rene-hologne-2435732
END:VEVENT
END:VCALENDAR
