BEGIN:VCALENDAR
VERSION:2.0
PRODID:-//hacksw/handcal//NONSGML v1.0//EN
BEGIN:VEVENT
SUMMARY:Rando Demi-journee, rendez vous a 13h30 parking Rene Hologne
UID:1d8cbfcf-b6aa-4ac8-b068-5284ac0f49d3
DTSTART:20260514T220000Z
DTEND:20260515T220000Z
LOCATION:Localisation   
CATEGORIES:Sportif
STATUS:
URL;VALUE=URI:https://randovesoul70.sportsregions.fr/evenements/2026/05/15/rando-demi-journee-rendez-vous-a-13h30-parking-rene-hologne-2435742
END:VEVENT
END:VCALENDAR
