BEGIN:VCALENDAR
VERSION:2.0
PRODID:-//hacksw/handcal//NONSGML v1.0//EN
BEGIN:VEVENT
SUMMARY:Rando Demi-journee, rendez vous a 13h30 parking Rene Hologne
UID:f5d2d695-989b-4910-a599-e4e57f5e775e
DTSTART:20260519T220000Z
DTEND:20260520T220000Z
LOCATION:Localisation   
CATEGORIES:Sportif
STATUS:
URL;VALUE=URI:https://randovesoul70.sportsregions.fr/evenements/2026/05/20/rando-demi-journee-rendez-vous-a-13h30-parking-rene-hologne-2435733
END:VEVENT
END:VCALENDAR
