BEGIN:VCALENDAR
VERSION:2.0
PRODID:-//hacksw/handcal//NONSGML v1.0//EN
BEGIN:VEVENT
SUMMARY:Rando Demi-journee, rendez vous a 13h30 parking Rene Hologne
UID:4f52d981-de80-416e-aa18-bd0c741d46ef
DTSTART:20260521T220000Z
DTEND:20260522T220000Z
LOCATION:Localisation   
CATEGORIES:Sportif
STATUS:
URL;VALUE=URI:https://randovesoul70.sportsregions.fr/evenements/2026/05/22/rando-demi-journee-rendez-vous-a-13h30-parking-rene-hologne-2435743
END:VEVENT
END:VCALENDAR
