BEGIN:VCALENDAR
VERSION:2.0
PRODID:-//hacksw/handcal//NONSGML v1.0//EN
BEGIN:VEVENT
SUMMARY:Rando Demi-journee, rendez vous a 13h30 parking Rene Hologne
UID:cdb29061-24cf-40a4-b85a-67e4699c3764
DTSTART:20260526T220000Z
DTEND:20260527T220000Z
LOCATION:Localisation   
CATEGORIES:Sportif
STATUS:
URL;VALUE=URI:https://randovesoul70.sportsregions.fr/evenements/2026/05/27/rando-demi-journee-rendez-vous-a-13h30-parking-rene-hologne-2435924
END:VEVENT
END:VCALENDAR
