BEGIN:VCALENDAR
VERSION:2.0
PRODID:-//hacksw/handcal//NONSGML v1.0//EN
BEGIN:VEVENT
SUMMARY:Rando Demi-journee, rendez vous a 13h30 parking Rene Hologne
UID:95291131-4b54-4cce-8c9b-5fa27b921012
DTSTART:20260610T113000Z
DTEND:20260610T220000Z
LOCATION:Localisation   
CATEGORIES:Sportif
STATUS:
URL;VALUE=URI:https://randovesoul70.sportsregions.fr/evenements/2026/06/10/rando-demi-journee-rendez-vous-a-13h30-parking-rene-hologne-2435925
END:VEVENT
END:VCALENDAR
